BEGIN:VCALENDAR
VERSION:2.0
PRODID:-//Baba-Mama Fotós Klub - ECPv6.15.15//NONSGML v1.0//EN
CALSCALE:GREGORIAN
METHOD:PUBLISH
X-WR-CALNAME:Baba-Mama Fotós Klub
X-ORIGINAL-URL:https://babamamafotosklub.hu
X-WR-CALDESC:Események Baba-Mama Fotós Klub
REFRESH-INTERVAL;VALUE=DURATION:PT1H
X-Robots-Tag:noindex
X-PUBLISHED-TTL:PT1H
BEGIN:VTIMEZONE
TZID:Europe/Budapest
BEGIN:DAYLIGHT
TZOFFSETFROM:+0100
TZOFFSETTO:+0200
TZNAME:CEST
DTSTART:20250330T010000
END:DAYLIGHT
BEGIN:STANDARD
TZOFFSETFROM:+0200
TZOFFSETTO:+0100
TZNAME:CET
DTSTART:20251026T010000
END:STANDARD
BEGIN:DAYLIGHT
TZOFFSETFROM:+0100
TZOFFSETTO:+0200
TZNAME:CEST
DTSTART:20260329T010000
END:DAYLIGHT
BEGIN:STANDARD
TZOFFSETFROM:+0200
TZOFFSETTO:+0100
TZNAME:CET
DTSTART:20261025T010000
END:STANDARD
BEGIN:DAYLIGHT
TZOFFSETFROM:+0100
TZOFFSETTO:+0200
TZNAME:CEST
DTSTART:20270328T010000
END:DAYLIGHT
BEGIN:STANDARD
TZOFFSETFROM:+0200
TZOFFSETTO:+0100
TZNAME:CET
DTSTART:20271031T010000
END:STANDARD
END:VTIMEZONE
BEGIN:VEVENT
DTSTART;TZID=Europe/Budapest:20260216T090000
DTEND;TZID=Europe/Budapest:20260216T120000
DTSTAMP:20260424T033318
CREATED:20260211T103437Z
LAST-MODIFIED:20260212T145751Z
UID:1114-1771232400-1771243200@babamamafotosklub.hu
SUMMARY:Baba-Mama Fotós Klub ingyenes előadás regisztráció: Tudatos áremelés
DESCRIPTION:🚀 Emeljek árat? De mi lesz az ügyfelekkel?\nIngyenes Online Workshop Kreatív Vállalkozóknak \n„Kevesebb ügyfelem lesz\, ha drágább leszek?” „Elég jók már a munkáim ehhez a szinthez?” „A konkurencia sokkal olcsóbb\, el fognak tőle vinni mindenkit…” \nIsmerősek ezek a gondolatok? Ha te is érzed a gyomorgörcsöt\, amikor az áraidat kell átírnod\, tudd: nem vagy egyedül. Az áremelés nem csak matek\, hanem kőkemény pszichológia. Ezen az online eseményen segítünk\, hogy ne a félelem\, hanem a tények és a stratégia diktálja az áraidat. \n\n📝 Miről lesz szó?\nA workshop során végigvesszük azt az utat\, ami a bizonytalanságtól a magabiztos profittermelésig vezet: \nMiért kötelező foglalkoznunk az árazással? – Miért nem csak a pénzről\, hanem a fenntarthatóságról és a minőségről van szó. \nHarc a démonokkal: Hogyan győzd le az áremeléstől való félelmet és az „imposztor-szindrómát”. \nStratégiák – Mert nincs egyetlen üdvözítő út: Megnézzük a lépcsőzetes\, a csomagalapú és az értékalapú árazási modelleket\, hogy megtaláld a sajátodat. \nProfi kommunikáció: Hogyan tálald az árváltozást a régi ügyfeleidnek anélkül\, hogy szabadkoznál? \nA „Nagy Bumm” után: Mi történik valójában az áremelés utáni hetekben? (Spoiler: Nem dől össze a világ!) \nLáthatóság: Hol és hogyan kommunikáld az áraidat? (Honlap\, közösségi média\, ajánlatkérés dilemmája). \n\n💡 Miért vegyél részt?\nA legtöbb vállalkozó ott követi el a hibát\, hogy a konkurenciához méri magát\, nem a saját értékéhez. Ha mindig az olcsóság a cél\, akkor a vállalkozásod nem fejlődik\, hanem túlél. \nEzen az ingyenes alkalmon kapsz: \nMankót a kommunikációhoz. \nTisztánlátást a saját szinteddel kapcsolatban. \nBátorságot\, hogy végre megkérd az árát annak a minőségnek\, amit képviselsz. \n\n📅 Esemény részletei:\nIdőpont: [Február 16. 09:00] \nHelyszín: Online a Google Meet felületén (a csatlakozási linket az esemény előtt 1-2 órával küldjük) \nRészvételi díj: 0 Ft (Regisztrációhoz kötött!) \n\nVedd vissza az irányítást a bevételeid felett! Ne hagyd\, hogy a félelem árazza be a munkádat.\n \nAz előadás 02.18 éjfélig visszanézhető marad a regisztráltaknak.
URL:https://babamamafotosklub.hu/event/baba-mama-fotos-klub-ingyenes-eloadas-regisztracio-tudatos-aremeles/
ORGANIZER;CN="ZsikePhoto":MAILTO:babamamafotosklub@gmail.com
END:VEVENT
END:VCALENDAR